BEGIN:VCALENDAR
VERSION:2.0
PRODID:-//Muscat Bay - ECPv5.14.2.1//NONSGML v1.0//EN
CALSCALE:GREGORIAN
METHOD:PUBLISH
X-WR-CALNAME:Muscat Bay
X-ORIGINAL-URL:https://www.muscatbay.com
X-WR-CALDESC:Events for Muscat Bay
REFRESH-INTERVAL;VALUE=DURATION:PT1H
X-Robots-Tag:noindex
X-PUBLISHED-TTL:PT1H
BEGIN:VTIMEZONE
TZID:UTC
BEGIN:STANDARD
TZOFFSETFROM:+0000
TZOFFSETTO:+0000
TZNAME:UTC
DTSTART:20230101T000000
END:STANDARD
END:VTIMEZONE
BEGIN:VEVENT
DTSTART;TZID=UTC:20230310T080000
DTEND;TZID=UTC:20230310T170000
DTSTAMP:20260419T200312
CREATED:20230517T074417Z
LAST-MODIFIED:20230525T113457Z
UID:4862-1678435200-1678467600@www.muscatbay.com
SUMMARY:The Classic Cars
DESCRIPTION:Muscat Bay in collaboration Oman Classic Cars Club organized The Classic Cars. The event was under the patronage of His Highness Sayyid Hatim Al Busaidi and was attended by Deputy Wali of Waliyat Muscat. Muscat Bay Community and invited guests enjoyed an excited afternoon where old cars were displayed.
URL:https://www.muscatbay.com/event/the-classic-cars/
LOCATION:Muscat Bay Village Square
ATTACH;FMTTYPE=image/jpeg:https://www.muscatbay.com/wp-content/uploads/2023/05/5W5A2346.jpg
END:VEVENT
BEGIN:VEVENT
DTSTART;TZID=UTC:20230313T080000
DTEND;TZID=UTC:20230315T170000
DTSTAMP:20260419T200312
CREATED:20230517T075246Z
LAST-MODIFIED:20230525T114818Z
UID:4873-1678694400-1678899600@www.muscatbay.com
SUMMARY:Oman Real Estate Exhibition
DESCRIPTION:Muscat Bay participated on Oman Real Estate Exhibition \nThe Exhibition gave us a chance to provide insights about Oman luxury resort and highlighting the unique features of our beautiful resort.
URL:https://www.muscatbay.com/event/oman-real-estate-exhibition/
LOCATION:Exhibition center
ATTACH;FMTTYPE=image/jpeg:https://www.muscatbay.com/wp-content/uploads/2023/05/2H1A0653.jpg
END:VEVENT
BEGIN:VEVENT
DTSTART;TZID=UTC:20230404T080000
DTEND;TZID=UTC:20230404T170000
DTSTAMP:20260419T200312
CREATED:20230517T075616Z
LAST-MODIFIED:20230525T114214Z
UID:4884-1680595200-1680627600@www.muscatbay.com
SUMMARY:Iftar at Jumeirah Muscat Bay  Resort
DESCRIPTION:Muscat Bay conducted an amazing Iftar at Jumeirah Muscat Bay  Resort. \nIt was great gathering and well organized event\, where Muscat Bay team had good time and enjoy the Iftar.
URL:https://www.muscatbay.com/event/iftar-at-jumeirah-muscat-bay-resort/
LOCATION:Jumeirah Muscat Bay
ATTACH;FMTTYPE=image/jpeg:https://www.muscatbay.com/wp-content/uploads/2023/05/ALIH8852.jpg
END:VEVENT
END:VCALENDAR